BEGIN:VCALENDAR
VERSION:2.0
BEGIN:VEVENT
DTSTART;TZID=Europe/Stockholm:20250720T100000
DTEND;TZID=Europe/Stockholm:20250720T110000
DTSTAMP:20260420T101139
DESCRIPTION:Gemensam Gudstjänst i Equmeniakyrkan
SEQUENCE:0
SUMMARY:GEMENSAM GUDSTJÄNST I EQUMENIAKYRKAN
UID:2972@lawebb.se
END:VEVENT
END:VCALENDAR