BEGIN:VCALENDAR
VERSION:2.0
BEGIN:VEVENT
DTSTART;TZID=Europe/Stockholm:20250727T103000
DTEND;TZID=Europe/Stockholm:20250727T113000
DTSTAMP:20260420T101155
DESCRIPTION:Predikan av Boris Nilsson.
Sång av Siv Lärka-Josefsson, Agneta Lärka-Martens och Percy Bergman.
Sång/lovsång, predikan, bön/förbön och gemenskap. 
#Kyrkkaffe efter gudstjänsten.# 
*Alla varmt välkomna! 
OBSERVERA TIDEN*
SEQUENCE:0
SUMMARY:GEMENSAM GUDSTJÄNST I PINGSTKYRKAN
UID:2623@lawebb.se
END:VEVENT
END:VCALENDAR