BEGIN:VCALENDAR
VERSION:2.0
BEGIN:VEVENT
DTSTART;TZID=Europe/Stockholm:20250803T103000
DTEND;TZID=Europe/Stockholm:20250803T113000
DTSTAMP:20260420T082651
DESCRIPTION:Predikan av Donald Johannesson.
Sång & Musik: Jennifer Bergström m.fl
Bön/förbön och gemenskap. #Kyrkkaffe efter gudstjänsten.#
*Alla varmt välkomna!*
SEQUENCE:0
SUMMARY:GUDSTJÄNST
UID:8397@lawebb.se
END:VEVENT
END:VCALENDAR