BEGIN:VCALENDAR
VERSION:2.0
BEGIN:VEVENT
DTSTART;TZID=Europe/Stockholm:20250804T000000
DTEND;TZID=Europe/Stockholm:20250804T240000
DTSTAMP:20260420T082657
DESCRIPTION:Måndagar till fredagar i vecka 32, Andakter från Pingstkyrkan på Närradion.
Denna vecka ansvarar Pingstkyrkan för dagliga korta andakter på Radio Centrum, Pingstkyrkans Närradio, 95,8 mHz. Sändningen startar klockan 06.15, 08.30, 22.00.
SEQUENCE:0
SUMMARY:ANDAKTER PÅ NÄRRADION
UID:3247@lawebb.se
END:VEVENT
END:VCALENDAR