BEGIN:VCALENDAR
VERSION:2.0
BEGIN:VEVENT
DTSTART;TZID=Europe/Stockholm:20250810T103000
DTEND;TZID=Europe/Stockholm:20250810T113000
DTSTAMP:20260420T082630
DESCRIPTION:Predikan av Christian Andersson.
Sång av Ing-Marie, Helen, Jonathan, Fredrik och Gisela.
Sång/lovsång, predikan, bön/förbön och gemenskap. #Kyrkkaffe efter gudstjänsten.# *Alla varmt välkomna!*
SEQUENCE:0
SUMMARY:GUDSTJÄNST MED NATTVARD
UID:4392@lawebb.se
END:VEVENT
END:VCALENDAR