BEGIN:VCALENDAR
VERSION:2.0
BEGIN:VEVENT
DTSTART;TZID=Europe/Stockholm:20250818T140000
DTEND;TZID=Europe/Stockholm:20250818T150000
DTSTAMP:20260420T082651
DESCRIPTION:
SEQUENCE:0
SUMMARY:MISSIONSSYGRUPPEN
UID:2956@lawebb.se
END:VEVENT
END:VCALENDAR