BEGIN:VCALENDAR
VERSION:2.0
BEGIN:VEVENT
DTSTART;TZID=Europe/Stockholm:20250823T130000
DTEND;TZID=Europe/Stockholm:20250823T140000
DTSTAMP:20260420T082656
DESCRIPTION:Varmt välkomna till Fest i parken i järnvägsparken! Det bjuds på sång och musik, popcorn, sockervadd, tävlingar, hoppborgar, grillad korv och fika! Alla är välkomna mellan 13:00 och 18:30.
SEQUENCE:0
SUMMARY:FEST I PARKEN
UID:9276@lawebb.se
END:VEVENT
END:VCALENDAR