BEGIN:VCALENDAR
VERSION:2.0
BEGIN:VEVENT
DTSTART;TZID=Europe/Stockholm:20250824T103000
DTEND;TZID=Europe/Stockholm:20250824T113000
DTSTAMP:20260420T082630
DESCRIPTION:Parentation efter Ingrid Lärka.
Predikan av Christian Andersson.
Sång av Therese, Markus och Veronica.
Sång/lovsång, predikan, bön/förbön och gemenskap. 
#Kyrkkaffe efter gudstjänsten.# 
*Alla varmt välkomna!*
SEQUENCE:0
SUMMARY:GUDSTJÄNST OCH PARENTATION
UID:4348@lawebb.se
END:VEVENT
END:VCALENDAR