BEGIN:VCALENDAR
VERSION:2.0
BEGIN:VEVENT
DTSTART;TZID=Europe/Stockholm:20250828T110000
DTEND;TZID=Europe/Stockholm:20250828T120000
DTSTAMP:20260420T082657
DESCRIPTION:...
SEQUENCE:0
SUMMARY:BEGRAVNINGSGUDSTJÄNST INGRID LÄRKA
UID:2492@lawebb.se
END:VEVENT
END:VCALENDAR