BEGIN:VCALENDAR
VERSION:2.0
BEGIN:VEVENT
DTSTART;TZID=Europe/Stockholm:20250831T103000
DTEND;TZID=Europe/Stockholm:20250831T113000
DTSTAMP:20260420T082629
DESCRIPTION:Predikan av Christian Andersson.
Sång av Timothy och Jennifer.
Frågan om ny ungdomspastor skall avhandlas.  
Sång/lovsång, predikan, bön/förbön och gemenskap. #Kyrkkaffe efter gudstjänsten.# *Alla varmt välkomna!*
SEQUENCE:0
SUMMARY:GUDSTJÄNST MED EXTRA FÖRSAMLINGSMÖTE
UID:7274@lawebb.se
END:VEVENT
END:VCALENDAR