BEGIN:VCALENDAR
VERSION:2.0
BEGIN:VEVENT
DTSTART;TZID=Europe/Stockholm:20250901T140000
DTEND;TZID=Europe/Stockholm:20250901T150000
DTSTAMP:20260420T064913
DESCRIPTION:
SEQUENCE:0
SUMMARY:MISSIONSSYGRUPPEN
UID:5754@lawebb.se
END:VEVENT
END:VCALENDAR