BEGIN:VCALENDAR
VERSION:2.0
BEGIN:VEVENT
DTSTART;TZID=Europe/Stockholm:20250907T103000
DTEND;TZID=Europe/Stockholm:20250907T113000
DTSTAMP:20260420T064913
DESCRIPTION:*Avtackningsgudstjänst för Emil Frick*
Emil predikar.
Sång av Team Olivia.
Sång/lovsång, predikan, bön/förbön och gemenskap. 
#Kyrkkaffe efter gudstjänsten.# 
*Alla varmt välkomna!*
SEQUENCE:0
SUMMARY:GUDSTJÄNST
UID:8437@lawebb.se
END:VEVENT
END:VCALENDAR