BEGIN:VCALENDAR
VERSION:2.0
BEGIN:VEVENT
DTSTART;TZID=Europe/Stockholm:20250909T144500
DTEND;TZID=Europe/Stockholm:20250909T154500
DTSTAMP:20260420T065030
DESCRIPTION:Fritidsgård för mellanstadiebarn, årskurs 3 till 6
Tid 14.45 till 1730.
Mer information hittar du under fliken &#34;Barn och ungdom&#34;.
Varmt välkomna!
SEQUENCE:0
SUMMARY:KÄLLAR´N
UID:7359@lawebb.se
END:VEVENT
END:VCALENDAR