BEGIN:VCALENDAR
VERSION:2.0
BEGIN:VEVENT
DTSTART;TZID=Europe/Stockholm:20250914T103000
DTEND;TZID=Europe/Stockholm:20250914T113000
DTSTAMP:20260420T064913
DESCRIPTION:BUS-bandet medverkar
 #Kyrkkaffe efter gudstjänsten.#
 *Alla varmt välkomna!*
SEQUENCE:0
SUMMARY:TILLSAMMANSGUDSTJÄNST
UID:4654@lawebb.se
END:VEVENT
END:VCALENDAR