BEGIN:VCALENDAR
VERSION:2.0
BEGIN:VEVENT
DTSTART;TZID=Europe/Stockholm:20250916T150000
DTEND;TZID=Europe/Stockholm:20250916T160000
DTSTAMP:20260420T065003
DESCRIPTION:Välkomna till Åsikten och lyssna på en enkel andakt.
SEQUENCE:0
SUMMARY:ANDAKT PÅ ÅSIKTEN.
UID:6636@lawebb.se
END:VEVENT
END:VCALENDAR