BEGIN:VCALENDAR
VERSION:2.0
BEGIN:VEVENT
DTSTART;TZID=Europe/Stockholm:20250916T183000
DTEND;TZID=Europe/Stockholm:20250916T193000
DTSTAMP:20260420T065030
DESCRIPTION:18.30-20.00 Prova på Alphakväll. 
Alla varmt välkomna.
SEQUENCE:0
SUMMARY:ALPHAKVÄLL
UID:5557@lawebb.se
END:VEVENT
END:VCALENDAR