BEGIN:VCALENDAR
VERSION:2.0
BEGIN:VEVENT
DTSTART;TZID=Europe/Stockholm:20250918T170000
DTEND;TZID=Europe/Stockholm:20250918T180000
DTSTAMP:20260420T064912
DESCRIPTION:Vår barnpastor Sara övar varannan torsdag, jämna veckor, under hela hösten. Övningen varar ca 1 timme fram till 18.00.
SEQUENCE:0
SUMMARY:BARNKÖREN ÖVAR
UID:8378@lawebb.se
END:VEVENT
END:VCALENDAR