BEGIN:VCALENDAR
VERSION:2.0
BEGIN:VEVENT
DTSTART;TZID=Europe/Stockholm:20250918T183000
DTEND;TZID=Europe/Stockholm:20250918T193000
DTSTAMP:20260420T064912
DESCRIPTION:Välkommen du också till avslappning och stretching på kristen grund. Vi gör det med vägledning av olika bibelord.
SEQUENCE:0
SUMMARY:TIKVA
UID:6786@lawebb.se
END:VEVENT
END:VCALENDAR