BEGIN:VCALENDAR
VERSION:2.0
BEGIN:VEVENT
DTSTART;TZID=Europe/Stockholm:20250921T103000
DTEND;TZID=Europe/Stockholm:20250921T113000
DTSTAMP:20260420T065010
DESCRIPTION:Avslutning på vår gemenskapshelg. 
Ted Sandstedt predikar.
Sång och musik av Karin och Niclas
12:00 Fika
#Alla varmt välkomna!#
SEQUENCE:0
SUMMARY:GUDSTJÄNST MED NATTVARD
UID:7378@lawebb.se
END:VEVENT
END:VCALENDAR