BEGIN:VCALENDAR
VERSION:2.0
BEGIN:VEVENT
DTSTART;TZID=Europe/Stockholm:20250921T090000
DTEND;TZID=Europe/Stockholm:20250921T100000
DTSTAMP:20260420T065004
DESCRIPTION:....inför vår förmiddagsgudstjänst.
SEQUENCE:0
SUMMARY:GEMENSAM FRUKOST
UID:5923@lawebb.se
END:VEVENT
END:VCALENDAR