BEGIN:VCALENDAR
VERSION:2.0
BEGIN:VEVENT
DTSTART;TZID=Europe/Stockholm:20250924T103000
DTEND;TZID=Europe/Stockholm:20250924T113000
DTSTAMP:20260420T065004
DESCRIPTION:Vi ber till klockan 11:30.
SEQUENCE:0
SUMMARY:BÖN
UID:8377@lawebb.se
END:VEVENT
END:VCALENDAR