BEGIN:VCALENDAR
VERSION:2.0
BEGIN:VEVENT
DTSTART;TZID=Europe/Stockholm:20250927T000000
DTEND;TZID=Europe/Stockholm:20250927T240000
DTSTAMP:20260420T064853
DESCRIPTION:Se startsidan för program
SEQUENCE:0
SUMMARY:MISSIONSDAGEN MED EFS SYD
UID:6248@lawebb.se
END:VEVENT
END:VCALENDAR