BEGIN:VCALENDAR
VERSION:2.0
BEGIN:VEVENT
DTSTART;TZID=Europe/Stockholm:20250928T103000
DTEND;TZID=Europe/Stockholm:20250928T113000
DTSTAMP:20260420T064913
DESCRIPTION:Predikan av Christian Andersson.
Sång av Percy, Thomas, Jennifer och Alexandra.
Sång/lovsång, predikan, bön/förbön och gemenskap. 
#Kyrkkaffe efter gudstjänsten.# 
*Alla varmt välkomna!*
SEQUENCE:0
SUMMARY:GUDSTJÄNST
UID:5727@lawebb.se
END:VEVENT
END:VCALENDAR