BEGIN:VCALENDAR
VERSION:2.0
BEGIN:VEVENT
DTSTART;TZID=Europe/Stockholm:20250929T140000
DTEND;TZID=Europe/Stockholm:20250929T150000
DTSTAMP:20260420T064912
DESCRIPTION:
SEQUENCE:0
SUMMARY:MISSIONSSYGRUPPEN
UID:9277@lawebb.se
END:VEVENT
END:VCALENDAR