BEGIN:VCALENDAR
VERSION:2.0
BEGIN:VEVENT
DTSTART;TZID=Europe/Stockholm:20251005T103000
DTEND;TZID=Europe/Stockholm:20251005T113000
DTSTAMP:20260420T051032
DESCRIPTION:BUS-bandet medverkar 
#Kyrkkaffe efter gudstjänsten.# 
*Alla varmt välkomna!*
SEQUENCE:0
SUMMARY:TILLSAMMANSGUDSTJÄNST
UID:6485@lawebb.se
END:VEVENT
END:VCALENDAR