BEGIN:VCALENDAR
VERSION:2.0
BEGIN:VEVENT
DTSTART;TZID=Europe/Stockholm:20251008T103000
DTEND;TZID=Europe/Stockholm:20251008T113000
DTSTAMP:20260420T051103
DESCRIPTION:Vi ber till klockan 11:30.
SEQUENCE:0
SUMMARY:BÖN
UID:5795@lawebb.se
END:VEVENT
END:VCALENDAR