BEGIN:VCALENDAR
VERSION:2.0
BEGIN:VEVENT
DTSTART;TZID=Europe/Stockholm:20251008T180000
DTEND;TZID=Europe/Stockholm:20251008T190000
DTSTAMP:20260420T051125
DESCRIPTION:Tillsammans söker vi oss närmare Guds ord.
18:00 till 20:00.
#Alla varmt välkomna!#
SEQUENCE:0
SUMMARY:ROTAD
UID:5778@lawebb.se
END:VEVENT
END:VCALENDAR