BEGIN:VCALENDAR
VERSION:2.0
BEGIN:VEVENT
DTSTART;TZID=Europe/Stockholm:20251011T100000
DTEND;TZID=Europe/Stockholm:20251011T110000
DTSTAMP:20260420T051103
DESCRIPTION:10:00 - 13:00 Servering av Kaffe, The, Kaffebröd, Våfflor med sylt och grädde, mm
Varmt välkomna till en fika i trevlig miljö!
SEQUENCE:0
SUMMARY:CAFÉ AXET
UID:5376@lawebb.se
END:VEVENT
END:VCALENDAR