BEGIN:VCALENDAR
VERSION:2.0
BEGIN:VEVENT
DTSTART;TZID=Europe/Stockholm:20251012T103000
DTEND;TZID=Europe/Stockholm:20251012T113000
DTSTAMP:20260420T051103
DESCRIPTION:Predikan av Alexander Backlund.
Sång av Ing-Marie, Jonathan, Fredrik och Tobbe.
Sång/lovsång, predikan, bön/förbön och gemenskap. 
#Kyrkkaffe efter gudstjänsten.# 
*Alla varmt välkomna!*
SEQUENCE:0
SUMMARY:GEMENSAM GUDSTJÄNST MED BETEL. NATTVARD
UID:4337@lawebb.se
END:VEVENT
END:VCALENDAR