BEGIN:VCALENDAR
VERSION:2.0
BEGIN:VEVENT
DTSTART;TZID=Europe/Stockholm:20251016T183000
DTEND;TZID=Europe/Stockholm:20251016T193000
DTSTAMP:20260420T051032
DESCRIPTION:Välkommen du också till avslappning och stretching på kristen grund. Vi gör det med vägledning av olika bibelord.
SEQUENCE:0
SUMMARY:TIKVA
UID:2433@lawebb.se
END:VEVENT
END:VCALENDAR