BEGIN:VCALENDAR
VERSION:2.0
BEGIN:VEVENT
DTSTART;TZID=Europe/Stockholm:20251019T103000
DTEND;TZID=Europe/Stockholm:20251019T113000
DTSTAMP:20260420T051104
DESCRIPTION:Predikan av Helen Olsson.
Sång av Timothy med flera.
Sång/lovsång, predikan, bön/förbön och gemenskap. #Kyrkkaffe efter gudstjänsten.# *Alla varmt välkomna!*
SEQUENCE:0
SUMMARY:GUDSTJÄNST
UID:7435@lawebb.se
END:VEVENT
END:VCALENDAR