BEGIN:VCALENDAR
VERSION:2.0
BEGIN:VEVENT
DTSTART;TZID=Europe/Stockholm:20251026T103000
DTEND;TZID=Europe/Stockholm:20251026T113000
DTSTAMP:20260420T051102
DESCRIPTION:Predikan av Christian Andersson.
Sång av Markus med flera.
Sång/lovsång, predikan, bön/förbön och gemenskap. #Kyrkkaffe efter gudstjänsten.# *Alla varmt välkomna!*
SEQUENCE:0
SUMMARY:GUDSTJÄNST MED FÖRSAMLINGSMÖTE
UID:3445@lawebb.se
END:VEVENT
END:VCALENDAR