BEGIN:VCALENDAR
VERSION:2.0
BEGIN:VEVENT
DTSTART;TZID=Europe/Stockholm:20251027T140000
DTEND;TZID=Europe/Stockholm:20251027T150000
DTSTAMP:20260420T051110
DESCRIPTION:
SEQUENCE:0
SUMMARY:MISSIONSSYGRUPPEN
UID:8937@lawebb.se
END:VEVENT
END:VCALENDAR