BEGIN:VCALENDAR
VERSION:2.0
BEGIN:VEVENT
DTSTART;TZID=Europe/Stockholm:20251028T144500
DTEND;TZID=Europe/Stockholm:20251028T154500
DTSTAMP:20260420T051109
DESCRIPTION:
SEQUENCE:0
SUMMARY:INGET KÄLLAR´N PGA  HÖSTLOV
UID:4886@lawebb.se
END:VEVENT
END:VCALENDAR