BEGIN:VCALENDAR
VERSION:2.0
BEGIN:VEVENT
DTSTART;TZID=Europe/Stockholm:20251030T183000
DTEND;TZID=Europe/Stockholm:20251030T193000
DTSTAMP:20260420T051033
DESCRIPTION:Välkommen du också till avslappning och stretching på kristen grund. Vi gör det med vägledning av olika bibelord.
SEQUENCE:0
SUMMARY:TIKVA
UID:8953@lawebb.se
END:VEVENT
END:VCALENDAR