BEGIN:VCALENDAR
VERSION:2.0
BEGIN:VEVENT
DTSTART;TZID=Europe/Stockholm:20251101T100000
DTEND;TZID=Europe/Stockholm:20251101T110000
DTSTAMP:20260420T032030
DESCRIPTION:
SEQUENCE:0
SUMMARY:CAFÉ AXET STÄNGT
UID:6257@lawebb.se
END:VEVENT
END:VCALENDAR