BEGIN:VCALENDAR
VERSION:2.0
BEGIN:VEVENT
DTSTART;TZID=Europe/Stockholm:20251101T140000
DTEND;TZID=Europe/Stockholm:20251101T150000
DTSTAMP:20260420T032152
DESCRIPTION:
SEQUENCE:0
SUMMARY:GOSPELDAG MED GISELA NYGREN
UID:3846@lawebb.se
END:VEVENT
END:VCALENDAR