BEGIN:VCALENDAR
VERSION:2.0
BEGIN:VEVENT
DTSTART;TZID=Europe/Stockholm:20251102T103000
DTEND;TZID=Europe/Stockholm:20251102T113000
DTSTAMP:20260420T032031
DESCRIPTION:Predikan av Christian Andersson.
Gisela med gospelkör medverkar.
#Kyrkkaffe efter gudstjänsten.# 
*Alla varmt välkomna!*
SEQUENCE:0
SUMMARY:GUDSTJÄNST, NATTVARD OCH DOP
UID:9978@lawebb.se
END:VEVENT
END:VCALENDAR