BEGIN:VCALENDAR
VERSION:2.0
BEGIN:VEVENT
DTSTART;TZID=Europe/Stockholm:20251107T190000
DTEND;TZID=Europe/Stockholm:20251107T200000
DTSTAMP:20260420T032151
DESCRIPTION:Nu kommer Mikael till vår kyrka med sin Elviskonsert. Han får hjälp på scenen av Gnosjögospel.
*INGET INTRÄDE MEN KOLLEKT TILL BARNMISSIONEN.*
SEQUENCE:0
SUMMARY:KONSERT MED MIKAEL JÄRLESTRAND
UID:2366@lawebb.se
END:VEVENT
END:VCALENDAR