BEGIN:VCALENDAR
VERSION:2.0
BEGIN:VEVENT
DTSTART;TZID=Europe/Stockholm:20251109T103000
DTEND;TZID=Europe/Stockholm:20251109T113000
DTSTAMP:20260420T032146
DESCRIPTION:BUS-bandetmedverkar. 
Sång/lovsång, predikan, bön/förbön och gemenskap. #Kyrkkaffe efter gudstjänsten.# 
*Alla varmt välkomna!*
SEQUENCE:0
SUMMARY:TILLSAMMANSGUDSTJÄNST
UID:6726@lawebb.se
END:VEVENT
END:VCALENDAR