BEGIN:VCALENDAR
VERSION:2.0
BEGIN:VEVENT
DTSTART;TZID=Europe/Stockholm:20251116T103000
DTEND;TZID=Europe/Stockholm:20251116T113000
DTSTAMP:20260420T032028
DESCRIPTION:Predikan av Jonathan Prüss.
Sång av Olivia Andersson med flera.
Sång/lovsång, predikan, bön/förbön och gemenskap. 
#Kyrkkaffe efter gudstjänsten.# 
*Alla varmt välkomna!*
SEQUENCE:0
SUMMARY:GUDSTJÄNST
UID:5479@lawebb.se
END:VEVENT
END:VCALENDAR