BEGIN:VCALENDAR
VERSION:2.0
BEGIN:VEVENT
DTSTART;TZID=Europe/Stockholm:20251111T144500
DTEND;TZID=Europe/Stockholm:20251111T154500
DTSTAMP:20260420T032152
DESCRIPTION:Fritidsgård för mellanstadiebarn, årskurs 3 till 6
Tid 14.45 till 1730.
Mer information hittar du under fliken &#34;Barn och ungdom&#34;.
Varmt välkomna!
SEQUENCE:0
SUMMARY:KÄLLAR´N
UID:4487@lawebb.se
END:VEVENT
END:VCALENDARBEGIN:VCALENDAR
VERSION:2.0
BEGIN:VEVENT
DTSTART;TZID=Europe/Stockholm:20251118T144500
DTEND;TZID=Europe/Stockholm:20251118T154500
DTSTAMP:20260420T032153
DESCRIPTION:Fritidsgård för mellanstadiebarn, årskurs 3 till 6
Tid 14.45 till 1730.
Mer information hittar du under fliken &#34;Barn och ungdom&#34;.
Varmt välkomna!
SEQUENCE:0
SUMMARY:KÄLLAR´N
UID:7488@lawebb.se
END:VEVENT
END:VCALENDAR