BEGIN:VCALENDAR
VERSION:2.0
BEGIN:VEVENT
DTSTART;TZID=Europe/Stockholm:20251123T103000
DTEND;TZID=Europe/Stockholm:20251123T113000
DTSTAMP:20260420T032028
DESCRIPTION:Besöket av Give a child a family är tyvärr förflyttat till våren 2026.
Predikan av Christian Andersson.
Sång av Jonathan Prüss, Fredrik Groth med flera.
Sång/lovsång, predikan, bön/förbön och gemenskap.
 #Kyrkkaffe efter gudstjänsten.#
*Alla varmt välkomna!*
SEQUENCE:0
SUMMARY:GUDSTJÄNST
UID:8285@lawebb.se
END:VEVENT
END:VCALENDAR