BEGIN:VCALENDAR
VERSION:2.0
BEGIN:VEVENT
DTSTART;TZID=Europe/Stockholm:20251126T180000
DTEND;TZID=Europe/Stockholm:20251126T190000
DTSTAMP:20260420T032146
DESCRIPTION:Tillsammans söker vi oss närmare Guds ord.
18:00 till 20:00.
#Alla varmt välkomna!#
SEQUENCE:0
SUMMARY:ROTAD
UID:4754@lawebb.se
END:VEVENT
END:VCALENDAR