BEGIN:VCALENDAR
VERSION:2.0
BEGIN:VEVENT
DTSTART;TZID=Europe/Stockholm:20251129T103000
DTEND;TZID=Europe/Stockholm:20251129T113000
DTSTAMP:20260420T032043
DESCRIPTION:Välkommen till en kreativ dag i Bytesplatsen , Ivla lördagen den 29 November
Ta gärna med dig någon du kan jobba med. Kanske lämpligt att fixa något på jultemat?
Aqvarell- och Akryl-färger finns. Kom och gå som du vill. Fika med tilltugg finns. Temat är Gemenskap och Uppmuntran.
SEQUENCE:0
SUMMARY:SKAPARDAG I IVLA
UID:9482@lawebb.se
END:VEVENT
END:VCALENDAR