BEGIN:VCALENDAR
VERSION:2.0
BEGIN:VEVENT
DTSTART;TZID=Europe/Stockholm:20251129T110000
DTEND;TZID=Europe/Stockholm:20251129T120000
DTSTAMP:20260420T032147
DESCRIPTION:Vår barnkör medverkar på Erikshjälpen under ledning av Sara Eriksson.
Kören sjunger julsånger men också lite andra sånger från deras repertoar.
SEQUENCE:0
SUMMARY:BARNKÖREN SJUNGER PÅ ERIKSHJÄLPEN
UID:8755@lawebb.se
END:VEVENT
END:VCALENDAR