BEGIN:VCALENDAR
VERSION:2.0
BEGIN:VEVENT
DTSTART;TZID=Europe/Stockholm:20251130T103000
DTEND;TZID=Europe/Stockholm:20251130T113000
DTSTAMP:20260420T032028
DESCRIPTION:Dialogpredikan av Christian Andersson/Whilmar Lopez
Sång av Percy Bergman, Ing-Marie Adolfsson och Therese Hasselgren och kör.
Sång/lovsång, predikan, bön/förbön och gemenskap. 
#Kyrkkaffe efter gudstjänsten.# 
*Alla varmt välkomna!*
SEQUENCE:0
SUMMARY:ADVENTSGUDSTJÄNST
UID:9359@lawebb.se
END:VEVENT
END:VCALENDAR