BEGIN:VCALENDAR
VERSION:2.0
BEGIN:VEVENT
DTSTART;TZID=Europe/Stockholm:20251203T103000
DTEND;TZID=Europe/Stockholm:20251203T113000
DTSTAMP:20260420T014024
DESCRIPTION:Vi ber till klockan 11:30.
SEQUENCE:0
SUMMARY:BÖN
UID:5392@lawebb.se
END:VEVENT
END:VCALENDAR