BEGIN:VCALENDAR
VERSION:2.0
BEGIN:VEVENT
DTSTART;TZID=Europe/Stockholm:20251207T103000
DTEND;TZID=Europe/Stockholm:20251207T113000
DTSTAMP:20260420T013953
DESCRIPTION:Predikan av Donald Johannesson. 
Sång av Alexandra, Jennifer med flera.
Sång/lovsång, predikan, bön/förbön och gemenskap. 
#Kyrkkaffe efter gudstjänsten.# 
*Alla varmt välkomna!*
SEQUENCE:0
SUMMARY:ADVENTSGUDSTJÄNST MED NATTVARD
UID:9474@lawebb.se
END:VEVENT
END:VCALENDAR