BEGIN:VCALENDAR
VERSION:2.0
BEGIN:VEVENT
DTSTART;TZID=Europe/Stockholm:20251211T163000
DTEND;TZID=Europe/Stockholm:20251211T173000
DTSTAMP:20260420T014023
DESCRIPTION:Den 11 December kl 16.30-17.30 har vi luciaövning för luciatåget som ska sjunga på julfesten den 14 dec. Alla barn oavsett ålder är välkomma. 
SEQUENCE:0
SUMMARY:BARNKÖREN ÖVAR INFÖR LUCIA
UID:4853@lawebb.se
END:VEVENT
END:VCALENDAR